BEGIN:VCALENDAR
VERSION:2.0
PRODID:-//MTÜ Pärnumaa Spordiveteranide Koondis - ECPv6.15.20//NONSGML v1.0//EN
CALSCALE:GREGORIAN
METHOD:PUBLISH
X-ORIGINAL-URL:https://psvk.ee
X-WR-CALDESC:Events for MTÜ Pärnumaa Spordiveteranide Koondis
REFRESH-INTERVAL;VALUE=DURATION:PT1H
X-Robots-Tag:noindex
X-PUBLISHED-TTL:PT1H
BEGIN:VTIMEZONE
TZID:Europe/Helsinki
BEGIN:DAYLIGHT
TZOFFSETFROM:+0200
TZOFFSETTO:+0300
TZNAME:EEST
DTSTART:20230326T010000
END:DAYLIGHT
BEGIN:STANDARD
TZOFFSETFROM:+0300
TZOFFSETTO:+0200
TZNAME:EET
DTSTART:20231029T010000
END:STANDARD
BEGIN:DAYLIGHT
TZOFFSETFROM:+0200
TZOFFSETTO:+0300
TZNAME:EEST
DTSTART:20240331T010000
END:DAYLIGHT
BEGIN:STANDARD
TZOFFSETFROM:+0300
TZOFFSETTO:+0200
TZNAME:EET
DTSTART:20241027T010000
END:STANDARD
BEGIN:DAYLIGHT
TZOFFSETFROM:+0200
TZOFFSETTO:+0300
TZNAME:EEST
DTSTART:20250330T010000
END:DAYLIGHT
BEGIN:STANDARD
TZOFFSETFROM:+0300
TZOFFSETTO:+0200
TZNAME:EET
DTSTART:20251026T010000
END:STANDARD
END:VTIMEZONE
BEGIN:VEVENT
DTSTART;TZID=Europe/Helsinki:20240612T180000
DTEND;TZID=Europe/Helsinki:20240612T180000
DTSTAMP:20260419T185658
CREATED:20240423T121523Z
LAST-MODIFIED:20240423T161946Z
UID:236-1718215200-1718215200@psvk.ee
SUMMARY:Heitjate mitmevõistluse Pokardi seriaal  2024.a. II etapp
DESCRIPTION:Juhend
URL:https://psvk.ee/event/https-kjveteranid-ee-protokoll-2024_pokardi_heiteseriaal_juhend-pdf/
LOCATION:Pokardi\, Tõrva\, Eesti
END:VEVENT
END:VCALENDAR